BEGIN:VCALENDAR
PRODID:-//eluceo/ical//2.0/EN
VERSION:2.0
CALSCALE:GREGORIAN
BEGIN:VEVENT
UID:2398c36f7f547683ec49463e2a76ce56
DTSTAMP:20260424T184030Z
SUMMARY:Public  Menorah Lighting Gateways Inn
DESCRIPTION:Jewish Federation of the Berkshires\nBerkshire Jewish Community
  Calendar\nhttps://jewishberkshires.org/jewish-federation-of-the-berkshire
 s-calendar/public--menorah-lighting-gateways-inn-1448899742\n\nPublic Meno
 rah lighting\nBerkshire Jewish Children's choir\nHot Latkes!\nDreidels!!\n
 Sufgoniot!!\nChocolate Gelt!!\nAll are welcome!\nRegardless of background 
 or affiliation!\n
DTSTART;TZID=America/New_York:20151212T000000
DTEND;TZID=America/New_York:20151212T000000
END:VEVENT
END:VCALENDAR
