BEGIN:VCALENDAR
PRODID:-//eluceo/ical//2.0/EN
VERSION:2.0
CALSCALE:GREGORIAN
BEGIN:VEVENT
UID:d28cd99a233e52a2b0fad10a03091f01
DTSTAMP:20260423T160934Z
SUMMARY:Prosecution in the 21st Century
DESCRIPTION:Jewish Federation of the Berkshires\nBerkshire Jewish Community
  Calendar\nhttps://jewishberkshires.org/jewish-federation-of-the-berkshire
 s-calendar/prosecution-in-the-21st-century\n\nJewish Federation Connecting
  with Community presents "Prosecution in the 21st Century" with Berkshire 
 County District Attorney\, Andrea Harrington.
DTSTART;TZID=America/New_York:20190328T104500
DTEND;TZID=America/New_York:20190328T120000
END:VEVENT
END:VCALENDAR
