BEGIN:VCALENDAR
PRODID:-//eluceo/ical//2.0/EN
VERSION:2.0
CALSCALE:GREGORIAN
BEGIN:VEVENT
UID:2c788e90b4de3fc49fa9be189772883a
DTSTAMP:20260421T190522Z
SUMMARY:Lichtenstein:  Early Pop Works and Fascination for Masters of Art H
 istory
DESCRIPTION:Jewish Federation of the Berkshires\nBerkshire Jewish Community
  Calendar\nhttps://jewishberkshires.org/jewish-federation-of-the-berkshire
 s-calendar/pop-art-by-lichtenstein\n\nVia Zoom\n\nRegister Here\n\nAfter r
 egistering\, you will receive a confirmation email containing information 
 about joining the meeting\n\nLichtenstein was one of the most influential 
 and innovative artists of the second half of the twentieth century. He is 
 preeminently identified with Pop Art\, a movement he helped originate\, an
 d his first fully achieved paintings\, rendered in a style mimicking the c
 rude printing processes of newspaper reproduction\, were based on imagery 
 from comic strips and ...
DTSTART;TZID=America/New_York:20210913T184500
DTEND;TZID=America/New_York:20210913T194500
END:VEVENT
END:VCALENDAR
