BEGIN:VCALENDAR
PRODID:-//eluceo/ical//2.0/EN
VERSION:2.0
CALSCALE:GREGORIAN
BEGIN:VEVENT
UID:857db915e5a5f3056635d93690c6f092
DTSTAMP:20260425T173706Z
SUMMARY:Poetry Writing Workshop with Barbara Janoff Ph\,D.
DESCRIPTION:Jewish Federation of the Berkshires\nBerkshire Jewish Community
  Calendar\nhttps://jewishberkshires.org/jewish-federation-of-the-berkshire
 s-calendar/poetry-writing-workshop-with-barbara-janoff-phd-1569428987\n\n"
 Writing poems is a process that begins by paying attention to our surround
 ings and the musings of our minds. This generative workshop will offer wri
 ting exercises designed to stimulate our imaginations and a variety of poe
 ms meant to inspire revisions. No formal writing experience necessary."   
 \n\nReservations Required. Fee $10 
DTSTART;TZID=America/New_York:20191208T140000
DTEND;TZID=America/New_York:20191208T153000
END:VEVENT
END:VCALENDAR
