BEGIN:VCALENDAR
PRODID:-//eluceo/ical//2.0/EN
VERSION:2.0
CALSCALE:GREGORIAN
BEGIN:VEVENT
UID:cb699a7522f37283e46e5ee8904e1b0b
DTSTAMP:20260423T122627Z
SUMMARY:Plucked from the Headlines with Edward Insley
DESCRIPTION:Jewish Federation of the Berkshires\nBerkshire Jewish Community
  Calendar\nhttps://jewishberkshires.org/jewish-federation-of-the-berkshire
 s-calendar/plucked-from-the-headlines-with-edward-insley1-----\n\nThe Jewi
 sh Federation of the Berkshires Connecting with Community presents  "Pluck
 ed From the Headlines" with Edward Insley.
DTSTART;TZID=America/New_York:20160609T104500
DTEND;TZID=America/New_York:20160609T120000
END:VEVENT
END:VCALENDAR
