BEGIN:VCALENDAR
PRODID:-//eluceo/ical//2.0/EN
VERSION:2.0
CALSCALE:GREGORIAN
BEGIN:VEVENT
UID:a4cf3b3c74ebdb053948e69dbbc7030e
DTSTAMP:20260419T162357Z
SUMMARY:Play Analysis: In Fascism's Grip
DESCRIPTION:Jewish Federation of the Berkshires\nBerkshire Jewish Community
  Calendar\nhttps://jewishberkshires.org/jewish-federation-of-the-berkshire
 s-calendar/play-analysis-in-fascisms-grip-1560866855\n\n Dr. Barbara Waldi
 nger\, Theatre professor and director\, will discuss two plays:\nJuly 9 an
 d 16:  Bertolt Brecht's THE PRIVATE LIFE OF THE MASTER RACE\, a depiction 
 of life in 1930's Germany.\nJuly 23 and 30:  Michael Frayn's COPENHAGEN\, 
 a 1941 meeting of physicists Niels Bohr and Werner Heisenberg about the de
 velopment of the atom bomb.
DTSTART;TZID=America/New_York:20190709T100000
DTEND;TZID=America/New_York:20190709T113000
END:VEVENT
END:VCALENDAR
