BEGIN:VCALENDAR
PRODID:-//eluceo/ical//2.0/EN
VERSION:2.0
CALSCALE:GREGORIAN
BEGIN:VEVENT
UID:a927ce14ca8df92fe5a1be5c2b95fd27
DTSTAMP:20260421T154109Z
SUMMARY:PJ Library in the Hilltowns
DESCRIPTION:Jewish Federation of the Berkshires\nBerkshire Jewish Community
  Calendar\nhttps://jewishberkshires.org/jewish-federation-of-the-berkshire
 s-calendar/pj-library-takes-to-the-hilltowns\n\nJoin friends from PJ Libra
 ry Western Massachusetts and PJ Library of the Berkshires as we discover t
 he hidden beauty around us with a scavenger hunt\, crafts\, snacks and son
 gs!\n\n \n\nSinging Bridge Performing Arts Lodge\n\n21 West Main Street\n
 \nCummington\, MA\n\n10-11:30am\n\nRegistration Requested\, so that we hav
 e snacks and crafts for everyone! \n\n \n\n 
DTSTART;TZID=America/New_York:20230709T100000
DTEND;TZID=America/New_York:20230709T113000
END:VEVENT
END:VCALENDAR
