BEGIN:VCALENDAR
PRODID:-//eluceo/ical//2.0/EN
VERSION:2.0
CALSCALE:GREGORIAN
BEGIN:VEVENT
UID:8624cce7a750acc30f7c939ed88f61e6
DTSTAMP:20260422T200040Z
SUMMARY:PJ Library Sukkot Pumpkin Fest at Whitney's Farm
DESCRIPTION:Jewish Federation of the Berkshires\nBerkshire Jewish Community
  Calendar\nhttps://jewishberkshires.org/jewish-federation-of-the-berkshire
 s-calendar/pj-library-sukkot-pumpkin-fest-at-whitneys-farm\n\nPJ Library S
 ukkot Pumpkin Fest at Whitney's Farm\n\nCelebrate the Harvest Festival wit
 h PJ Library!  Sukkot craft\, hay rides\, mini pumpkins\, corn maze\, pe
 tting zoo\, giant slides\, jumper pumpkins\, play structures and more!  
 \n\n$10 per family\n\nPlease register HERE.
DTSTART;TZID=America/New_York:20251005T140000
DTEND;TZID=America/New_York:20251005T160000
END:VEVENT
END:VCALENDAR
