BEGIN:VCALENDAR
PRODID:-//eluceo/ical//2.0/EN
VERSION:2.0
CALSCALE:GREGORIAN
BEGIN:VEVENT
UID:455f68239f293cd3dde8c0b1a28cac7d
DTSTAMP:20260420T044131Z
SUMMARY:Family Shabbat at the Lake
DESCRIPTION:Jewish Federation of the Berkshires\nBerkshire Jewish Community
  Calendar\nhttps://jewishberkshires.org/jewish-federation-of-the-berkshire
 s-calendar/pj-library-shabbat-at-the-lake\n\nJoin us for a special PJ Libr
 ary Shabbat at Lake Mansfield in Great Barrington 
DTSTART;TZID=America/New_York:20180810T173000
DTEND;TZID=America/New_York:20180810T193000
END:VEVENT
END:VCALENDAR
