BEGIN:VCALENDAR
PRODID:-//eluceo/ical//2.0/EN
VERSION:2.0
CALSCALE:GREGORIAN
BEGIN:VEVENT
UID:0cf8ebee4f4654cb23dd176bb665f58c
DTSTAMP:20260423T005550Z
SUMMARY:PJ Library Fall Sukkot Festival
DESCRIPTION:Jewish Federation of the Berkshires\nBerkshire Jewish Community
  Calendar\nhttps://jewishberkshires.org/jewish-federation-of-the-berkshire
 s-calendar/pj-library-fall-sukkot-festival\n\nRSVP to Molly Meador at mmea
 dor@jewishberkshires.org
DTSTART;TZID=America/New_York:20241020T140000
DTEND;TZID=America/New_York:20241020T160000
END:VEVENT
END:VCALENDAR
