BEGIN:VCALENDAR
PRODID:-//eluceo/ical//2.0/EN
VERSION:2.0
CALSCALE:GREGORIAN
BEGIN:VEVENT
UID:d64d0f0de896c3cff5740932800d9ef9
DTSTAMP:20260424T170758Z
SUMMARY:PJ Library at Tanglewood: BSO Family Concert
DESCRIPTION:Jewish Federation of the Berkshires\nBerkshire Jewish Community
  Calendar\nhttps://jewishberkshires.org/jewish-federation-of-the-berkshire
 s-calendar/pj-library-at-tanglewood\n\nFind the PJ Library blanket on the 
 lawn by 10:15 for a fun PJ meet and greet and quick craft\, then head into
  the shed and enjoy the concert\, or stay and listen with us on the lawn!\
 n\nBuy your tickets directly through Tanglewood\n\n(https://www.bso.org/ev
 ents/twd-family-concert-2024?performance=2024-07-21-10:30)\n\nthen RSVP to
  mmeador@jewishberkshires.org so that we can have enough treats.\n\n \n\n
 \n\n 
DTSTART;TZID=America/New_York:20240721T100000
DTEND;TZID=America/New_York:20240721T120000
END:VEVENT
END:VCALENDAR
