BEGIN:VCALENDAR
PRODID:-//eluceo/ical//2.0/EN
VERSION:2.0
CALSCALE:GREGORIAN
BEGIN:VEVENT
UID:28bbe9383f69ba36feffbba6368ff01c
DTSTAMP:20260422T133555Z
SUMMARY:Pittsfield Suns vs The Bristol Blues: Play Ball!
DESCRIPTION:Jewish Federation of the Berkshires\nBerkshire Jewish Community
  Calendar\nhttps://jewishberkshires.org/jewish-federation-of-the-berkshire
 s-calendar/pittsfield-suns-vs-the-bristol-blues-play-ball-1463671459\n\nTh
 e Kehillah Community Connection is sponsoring a Hevreh Family baseball gam
 e. Everyone is invited! Tickets include the baseball game and all you can 
 eat (hot dogs\, hamburgers\, chicken sandwiches\, sides\, water\, lemonade
 \, and soda). Gates open at 4 pm. Food starts at the first pitch at 5 pm\,
  and goes until the 7th inning. Seating is available under the picnic tent
  along home base to first base side with picnic tables. You can also sit i
 n the general admission/grandstand seats.\nAdults are $20\,...
DTSTART;TZID=America/New_York:20160710T160000
DTEND;TZID=America/New_York:20160710T190000
END:VEVENT
END:VCALENDAR
