BEGIN:VCALENDAR
PRODID:-//eluceo/ical//2.0/EN
VERSION:2.0
CALSCALE:GREGORIAN
BEGIN:VEVENT
UID:4749d78fedf98c68ea62bb6e29783998
DTSTAMP:20260423T140401Z
SUMMARY:Pirke Avot Study
DESCRIPTION:Jewish Federation of the Berkshires\nBerkshire Jewish Community
  Calendar\nhttps://jewishberkshires.org/jewish-federation-of-the-berkshire
 s-calendar/pirke-avot-study-1742502698\n\nThe six chapters of Pirkei Avot 
 are traditionally studied during the Omer period between Passover and Shav
 uot to help us prepare spiritually for Shavuot and the receiving of Torah.
  Join Rabbis David Weiner and Pam Wax for 6 Tuesday afternoons from April 
 22-May 27 to study one chapter each week. Come to one session or all six. 
 Free.
DTSTART;TZID=America/New_York:20250429T140000
DTEND;TZID=America/New_York:20250429T153000
END:VEVENT
END:VCALENDAR
