BEGIN:VCALENDAR
PRODID:-//eluceo/ical//2.0/EN
VERSION:2.0
CALSCALE:GREGORIAN
BEGIN:VEVENT
UID:f4848b077c660f1307ec3a0c5b1a0a74
DTSTAMP:20260425T173716Z
SUMMARY:Pilates at Hevreh
DESCRIPTION:Jewish Federation of the Berkshires\nBerkshire Jewish Community
  Calendar\nhttps://jewishberkshires.org/jewish-federation-of-the-berkshire
 s-calendar/pilates-at-hevreh-1422289510\n\nAll skill levels are welcome\, 
 we ask for a donation.
DTSTART;TZID=America/New_York:20150219T103000
DTEND;TZID=America/New_York:20150219T120000
END:VEVENT
END:VCALENDAR
