BEGIN:VCALENDAR
PRODID:-//eluceo/ical//2.0/EN
VERSION:2.0
CALSCALE:GREGORIAN
BEGIN:VEVENT
UID:05f1d12f56d8d29b0426ebd04edd2e3c
DTSTAMP:20260422T005036Z
SUMMARY:PFTY SHABBAT AND LASAGNA DINNER
DESCRIPTION:Jewish Federation of the Berkshires\nBerkshire Jewish Community
  Calendar\nhttps://jewishberkshires.org/jewish-federation-of-the-berkshire
 s-calendar/pfty-shabbat-and-lasagna-dinner-1553016138\n\nShabbat service o
 pen to the community presented by the Temple's youth group with lasagna di
 nner to follow.\nShabbat service open to the community presented by the yo
 uth group with lasagna dinner to follow. $15 per person\, $6 per child and
  $35 per family. Please RSVP for dinner by April 2\, 2019\, to the Temple 
 at 413-442-5910 or templeoffice@ansheamunim.org.
DTSTART;TZID=America/New_York:20190405T173000
DTEND;TZID=America/New_York:20190405T193000
END:VEVENT
END:VCALENDAR
