BEGIN:VCALENDAR
PRODID:-//eluceo/ical//2.0/EN
VERSION:2.0
CALSCALE:GREGORIAN
BEGIN:VEVENT
UID:854cdd2548e71c32ddcafe8fd21d6c0a
DTSTAMP:20260420T151322Z
SUMMARY:Pesach Study and Festival Service
DESCRIPTION:Jewish Federation of the Berkshires\nBerkshire Jewish Community
  Calendar\nhttps://jewishberkshires.org/jewish-federation-of-the-berkshire
 s-calendar/pesach-study-and-festival-service-1490368187\n\nRabbi Josh will
  begin our Passover celebration on Tuesday morning\, April 11\, at 9:30 a.
 m. with a Torah Plus-style exploration of the story of Passover.  All text
 s will be in English.  A joyous\, streamlined festival service will follow
  at 10:30 a.m.
DTSTART;TZID=America/New_York:20170411T093000
DTEND;TZID=America/New_York:20170411T110000
END:VEVENT
END:VCALENDAR
