BEGIN:VCALENDAR
PRODID:-//eluceo/ical//2.0/EN
VERSION:2.0
CALSCALE:GREGORIAN
BEGIN:VEVENT
UID:28e65b148c27a68d0961ff712d4d586f
DTSTAMP:20260423T010642Z
SUMMARY:Perspectives on the Holocaust: FDR and the Holocaust
DESCRIPTION:Jewish Federation of the Berkshires\nBerkshire Jewish Community
  Calendar\nhttps://jewishberkshires.org/jewish-federation-of-the-berkshire
 s-calendar/perspectives-on-the-holocaust-fdr-and-the-holocaust-1551808894\
 n\nHistory has not been kind to FDR where the persecution and slaughter of
  Europe's Jews is concerned. While he earns praise for America's role in t
 he defeat of Nazi Germany in World War II\, Roosevelt has been heavily cri
 ticized for inaction concerning European Jewry during most of his presiden
 cy. Indeed\, not until 1944 did FDR support establishment of a rescue effo
 rt\, and even then he arguably did so only to avoid disclosure of a bombsh
 ell report on the alleged "Complicity of the U.S....
DTSTART;TZID=America/New_York:20190711T160000
DTEND;TZID=America/New_York:20190711T180000
END:VEVENT
END:VCALENDAR
