BEGIN:VCALENDAR
PRODID:-//eluceo/ical//2.0/EN
VERSION:2.0
CALSCALE:GREGORIAN
BEGIN:VEVENT
UID:b6be7477e25a428b0a0d0ba6df0b5cb3
DTSTAMP:20260422T045806Z
SUMMARY:People of the Book Club:  Walking a Literary Labyrinth
DESCRIPTION:Jewish Federation of the Berkshires\nBerkshire Jewish Community
  Calendar\nhttps://jewishberkshires.org/jewish-federation-of-the-berkshire
 s-calendar/people-of-the-book-club--walking-a-literary-labyrinth-146359048
 8\n\nBoth of our rabbis love good books. It’s no surprise Jews are calle
 d the People of the Book. Join us each month over bagels and coffee to dis
 cuss some great reads. This June we will discuss one of Rabbi Hirsch’s f
 avorite books\, Walking a Literary Labyrinth: A Spirituality of Reading\, 
 by Nancy Malone. Malone is an Ursuline Nun who draws from diverse sources\
 , both spiritual and secular. She invites readers to consider the influenc
 e of reading in our own lives\, how and why particular books s...
DTSTART;TZID=America/New_York:20160626T103000
DTEND;TZID=America/New_York:20160626T120000
END:VEVENT
END:VCALENDAR
