BEGIN:VCALENDAR
PRODID:-//eluceo/ical//2.0/EN
VERSION:2.0
CALSCALE:GREGORIAN
BEGIN:VEVENT
UID:d3cd45bce01d68a073e2abb2f136da23
DTSTAMP:20260420T221704Z
SUMMARY:Peanut Peregrinations and Other Tales of Food Travel
DESCRIPTION:Jewish Federation of the Berkshires\nBerkshire Jewish Community
  Calendar\nhttps://jewishberkshires.org/jewish-federation-of-the-berkshire
 s-calendar/peanut-peregrinations-and-other-tales-of-food-travel\n\nPeanut 
 Peregrinations and Other Tales of Food Travel\n\nA Reading and Slide Lectu
 re by BJV Columnist and Kosher Cook Carol Goodman Kaufman\n\nWhether peanu
 ts from South America or grapes from Asia\, each food has a tale to tell a
 bout how it was discovered and introduced around the world to appear in my
 riad forms on people’s dinner plates\, as well as in their cultures and 
 traditions\, in everything from pottery to poetry.\n\nCarol will read from
  and discuss her current book project\, which foll...
DTSTART;TZID=America/New_York:20160318T133000
DTEND;TZID=America/New_York:20160318T153000
END:VEVENT
END:VCALENDAR
