BEGIN:VCALENDAR
PRODID:-//eluceo/ical//2.0/EN
VERSION:2.0
CALSCALE:GREGORIAN
BEGIN:VEVENT
UID:99adb4c3c41f0892198f1873e75c1cb6
DTSTAMP:20260419T191049Z
SUMMARY:Passover Yizkor at Hevreh
DESCRIPTION:Jewish Federation of the Berkshires\nBerkshire Jewish Community
  Calendar\nhttps://jewishberkshires.org/jewish-federation-of-the-berkshire
 s-calendar/passover-yizkor-at-hevreh-1424449504\n\nYizkor means "May God r
 emember"\, from the root word zakhor - remember. It is the memorial servic
 e on the final day of Passover.
DTSTART;TZID=America/New_York:20150409T193000
DTEND;TZID=America/New_York:20150409T213000
END:VEVENT
END:VCALENDAR
