BEGIN:VCALENDAR
PRODID:-//eluceo/ical//2.0/EN
VERSION:2.0
CALSCALE:GREGORIAN
BEGIN:VEVENT
UID:76aa98527182a1147da868a649d67e31
DTSTAMP:20260423T044735Z
SUMMARY:Passover Seder with Temple Anshe Amunim
DESCRIPTION:Jewish Federation of the Berkshires\nBerkshire Jewish Community
  Calendar\nhttps://jewishberkshires.org/jewish-federation-of-the-berkshire
 s-calendar/passover-seder-with-temple-anshe-amunim-1519224488\n\nOpen to t
 emple members and the community at large. Highlights of the Seder include 
 reading of the Haggadah\, stories and friendship\, songs and music\, hunti
 ng for the Afikomen and prizes\, plus a full Seder meal prepared by the Te
 mple Second Night Seder Committee. $36 for Temple members\, $54 for member
 s of the community\, $10 for children 10-18 years of age\, $15 for childre
 n 10-18 of the community\, free for children under age 10. Vegetarian entr
 ee available upon request. Reservations no later...
DTSTART;TZID=America/New_York:20180331T173000
DTEND;TZID=America/New_York:20180331T200000
END:VEVENT
END:VCALENDAR
