BEGIN:VCALENDAR
PRODID:-//eluceo/ical//2.0/EN
VERSION:2.0
CALSCALE:GREGORIAN
BEGIN:VEVENT
UID:d1125f31fe98c6172df816d693ce9a9c
DTSTAMP:20260424T221019Z
SUMMARY:Passover Journey to Freedom: Pilgrimage for body\, mind and spirit
DESCRIPTION:Jewish Federation of the Berkshires\nBerkshire Jewish Community
  Calendar\nhttps://jewishberkshires.org/jewish-federation-of-the-berkshire
 s-calendar/passover-journey-to-freedom-pilgrimage-for-body-mind-and-spirit
 -1582318792\n\nLed by Rabba Kaya Stern-Kaufman\, this Passover retreat is 
 designed in four parts\, moving participants through different levels of a
 wareness and discovery regarding the ways in which we are all enslaved by 
 inner and outer forces. Through Jewish mystical teachings\, music and chan
 t\, meditation and mindful eating\, participants will discover a liberatin
 g path forward.\n\nOn the evening of April 8th\, experience a unique Earth
  Seder that honors our interdependence and reframes our relationship to...
DTSTART;TZID=America/New_York:20200407T140000
DTEND;TZID=America/New_York:20200409T133000
END:VEVENT
END:VCALENDAR
