BEGIN:VCALENDAR
PRODID:-//eluceo/ical//2.0/EN
VERSION:2.0
CALSCALE:GREGORIAN
BEGIN:VEVENT
UID:a024aaf396a1717f1663d8d738db134f
DTSTAMP:20260419T115241Z
SUMMARY:Part 2-Mysticism of Aleph-Bet
DESCRIPTION:Jewish Federation of the Berkshires\nBerkshire Jewish Community
  Calendar\nhttps://jewishberkshires.org/jewish-federation-of-the-berkshire
 s-calendar/part-2-mysticism-of-aleph-bet\n\nPart 2-Mysticism of Aleph-Bet
DTSTART;TZID=America/New_York:20140304T190000
DTEND;TZID=America/New_York:20140304T203000
END:VEVENT
END:VCALENDAR
