BEGIN:VCALENDAR
PRODID:-//eluceo/ical//2.0/EN
VERSION:2.0
CALSCALE:GREGORIAN
BEGIN:VEVENT
UID:6a1b7d2051fd370e8d3684a51b7cffc9
DTSTAMP:20260425T191359Z
SUMMARY:Parent Workshop: Talking to School aged Children on Post Election W
 orries
DESCRIPTION:Jewish Federation of the Berkshires\nBerkshire Jewish Community
  Calendar\nhttps://jewishberkshires.org/jewish-federation-of-the-berkshire
 s-calendar/parent-workshop-talking-to-school-aged-children-on-post-electio
 n-worries\n\nThe Jewish Federation of the Berkshires\, PJ Library and the 
 Jewish Women's Foundation present A Parent Workshop
DTSTART;TZID=America/New_York:20170319T190000
DTEND;TZID=America/New_York:20170319T210000
END:VEVENT
END:VCALENDAR
