BEGIN:VCALENDAR
PRODID:-//eluceo/ical//2.0/EN
VERSION:2.0
CALSCALE:GREGORIAN
BEGIN:VEVENT
UID:8e4801714b4964618ac1002124d3fa86
DTSTAMP:20260420T013810Z
SUMMARY:Our Will To Live: Art and Music in Terezin
DESCRIPTION:Jewish Federation of the Berkshires\nBerkshire Jewish Community
  Calendar\nhttps://jewishberkshires.org/jewish-federation-of-the-berkshire
 s-calendar/our-will-to-live-art-and-music-in-terezn\n\nKnosh & Knowledge\n
 \nRegister Here\n\nPlease note:  Proof of vaccination for those eligible 
 is required.  Masks are optional but encouraged.\n\nJoin Terezín Music F
 oundation (TMF) director and Fulbright music scholar Mark Ludwig\, in an a
 rtistic\, and musical journey into the astonishing cultural community that
  persevered in this Nazi camp. Newly translated writings\, rarely seen art
 \, and vintage and new music tracks—from Mark's new book\, Our Will to 
 Live\, amplify voices silenced in the Ho...
DTSTART;TZID=America/New_York:20220819T104500
DTEND;TZID=America/New_York:20220819T120000
END:VEVENT
END:VCALENDAR
