BEGIN:VCALENDAR
PRODID:-//eluceo/ical//2.0/EN
VERSION:2.0
CALSCALE:GREGORIAN
BEGIN:VEVENT
UID:06eeb83879aa746596813d439cdbf22f
DTSTAMP:20260419T121400Z
SUMMARY:Norman Rockwell and the Four Freedoms
DESCRIPTION:Jewish Federation of the Berkshires\nBerkshire Jewish Community
  Calendar\nhttps://jewishberkshires.org/jewish-federation-of-the-berkshire
 s-calendar/norman-rockwell-and-the-four-freedoms\n\nThe Jewish Federation 
 of the Berkshires presents: Knosh & Knowledge. Norman Rockwell and the Fou
 r Freedoms
DTSTART;TZID=America/New_York:20171027T104500
DTEND;TZID=America/New_York:20171027T120000
END:VEVENT
END:VCALENDAR
