BEGIN:VCALENDAR
PRODID:-//eluceo/ical//2.0/EN
VERSION:2.0
CALSCALE:GREGORIAN
BEGIN:VEVENT
UID:9318bdcfea2b57c2a32c5ec8aaad0b7c
DTSTAMP:20260423T093637Z
SUMMARY:No Boundaries in Art: The Jewish Wife
DESCRIPTION:Jewish Federation of the Berkshires\nBerkshire Jewish Community
  Calendar\nhttps://jewishberkshires.org/jewish-federation-of-the-berkshire
 s-calendar/no-boundaries-in-art-the-jewish-wife-1540399603\n\nby Bertolt B
 recht\ndirected by Normi Noel\nat the Garage (located in The Colonial Thea
 tre lobby)\nFriday\, November 9 at 2pm\nTickets: FREE!\nPlease reserve you
 r FREE ticket in advance. Limited to 4 tickets per transaction. \nPlease c
 all the Box Office to reserve: 413-997-4444\n\nJoin us for a FREE staged r
 eading of  The Jewish Wife by Bertolt Brecht and directed by Normi Noe\, f
 eaturing Eric Hill and Kate Maguire.\n\nNovember 9\, 80 years ago\, on a n
 ight known as Kristalnacht\, Jewish homes and...
DTSTART;TZID=America/New_York:20181109T140000
DTEND;TZID=America/New_York:20181109T160000
END:VEVENT
END:VCALENDAR
