BEGIN:VCALENDAR
PRODID:-//eluceo/ical//2.0/EN
VERSION:2.0
CALSCALE:GREGORIAN
BEGIN:VEVENT
UID:b7fe38356bb1bf9f532eb5756b953a7e
DTSTAMP:20260424T192240Z
SUMMARY:Nicky's Family - film at Berkshire Museum
DESCRIPTION:Jewish Federation of the Berkshires\nBerkshire Jewish Community
  Calendar\nhttps://jewishberkshires.org/jewish-federation-of-the-berkshire
 s-calendar/nickys-family---film-at-berkshire-museum\n\nNicky's Family - fi
 lm at Berkshire Museum
DTSTART;TZID=America/New_York:20140629T140000
DTEND;TZID=America/New_York:20140629T160000
END:VEVENT
END:VCALENDAR
