BEGIN:VCALENDAR
PRODID:-//eluceo/ical//2.0/EN
VERSION:2.0
CALSCALE:GREGORIAN
BEGIN:VEVENT
UID:dcb12b840d0273dbf8270a56775a8d21
DTSTAMP:20260423T135216Z
SUMMARY:Newish & Jewish 2026\, Lenox
DESCRIPTION:Jewish Federation of the Berkshires\nBerkshire Jewish Community
  Calendar\nhttps://jewishberkshires.org/jewish-federation-of-the-berkshire
 s-calendar/newish-jewish-2026-lenox\n\nNew-ish to the Berkshires? Welcome!
    \n\n \n\nJoin us to meet others who are also “Newish and Jewish
 ” in the region\, enjoy some refreshments\, and learn more about the Ber
 kshire Jewish community. We look forward to connecting.\n\n \n\nSpace is
  limited. Registration is limited to two events. Host address will be shar
 ed with registered guests the week before the event.\n\n \n\nHosted by Sk
 ipper and Ezra Singer.\n\n \n\nAdvanced registration required. Please cl
 ick HERE to register...
DTSTART;TZID=America/New_York:20260603T170000
DTEND;TZID=America/New_York:20260603T183000
END:VEVENT
END:VCALENDAR
