BEGIN:VCALENDAR
PRODID:-//eluceo/ical//2.0/EN
VERSION:2.0
CALSCALE:GREGORIAN
BEGIN:VEVENT
UID:2ba258d872426da247d632da26040760
DTSTAMP:20260423T122036Z
SUMMARY:Newish & Jewish 2026\, Great Barrington
DESCRIPTION:Jewish Federation of the Berkshires\nBerkshire Jewish Community
  Calendar\nhttps://jewishberkshires.org/jewish-federation-of-the-berkshire
 s-calendar/newish-jewish-2026-great-barrington\n\nNew-ish to the Berkshire
 s? Welcome!   \n\n \n\nJoin us to meet others who are also “Newish a
 nd Jewish” in the region\, enjoy some refreshments\, and learn more abou
 t the Berkshire Jewish community. We look forward to connecting.\n\n \n\
 nSpace is limited. Registration is limited to two events. Host address wil
 l be shared with registered guests the week before the event.\n\n \n\nHos
 ted by Jane and Howard Jacobs.\n\n \n\nAdvanced registration required. P
 lease click HERE to register....
DTSTART;TZID=America/New_York:20260714T173000
DTEND;TZID=America/New_York:20260714T183000
END:VEVENT
END:VCALENDAR
