BEGIN:VCALENDAR
PRODID:-//eluceo/ical//2.0/EN
VERSION:2.0
CALSCALE:GREGORIAN
BEGIN:VEVENT
UID:00b4b41887e0f8934d1c8ab497eff5b4
DTSTAMP:20260422T150726Z
SUMMARY:Newish and Jewish--Pittsfield
DESCRIPTION:Jewish Federation of the Berkshires\nBerkshire Jewish Community
  Calendar\nhttps://jewishberkshires.org/jewish-federation-of-the-berkshire
 s-calendar/newish-and-jewish-pittsfield\n\nNew to the Berkshires? Welcome!
    \n\n \n\nJoin us for a casual gathering to enjoy a glass of wine\, 
 meet others who are "Newish and Jewish" in the region\, and learn more abo
 ut the Berkshire Jewish community.   We look forward to connecting.\n\n
  \n\nSpace is limited. Registration is limited to two events. Host addres
 s will be shared with registered guests the week before the event.\n\n \n
 \nHosted by Cindy Chazan and Jay Leipzig in Pittsfield.\n\n\n\nAdvanced re
 gistration required.  Pl...
DTSTART;TZID=America/New_York:20240808T170000
DTEND;TZID=America/New_York:20240808T183000
END:VEVENT
END:VCALENDAR
