BEGIN:VCALENDAR
PRODID:-//eluceo/ical//2.0/EN
VERSION:2.0
CALSCALE:GREGORIAN
BEGIN:VEVENT
UID:41dda693cfbc73a6b187c7ae95f42e7a
DTSTAMP:20260424T064625Z
SUMMARY:Newish and Jewish--Lenox
DESCRIPTION:Jewish Federation of the Berkshires\nBerkshire Jewish Community
  Calendar\nhttps://jewishberkshires.org/jewish-federation-of-the-berkshire
 s-calendar/newish-and-jewish-lenox\n\nNew to the Berkshires? Welcome!   
 \n\n \n\nJoin us for a casual gathering to enjoy a glass of wine\, meet 
 others who are "Newish and Jewish" in the region\, and learn more about th
 e Berkshire Jewish community.   We look forward to connecting.\n\n \n\n
 Hosted by Lisa Wendell and Kenneth Fishman in Lenox. \n\n \n\nSpace is l
 imited. Registration is limited to two events. Host address will be shared
  with registered guests the week before the event.\n\n \n\n\n\nAdvanced r
 egistration require...
DTSTART;TZID=America/New_York:20240915T170000
DTEND;TZID=America/New_York:20240915T183000
END:VEVENT
END:VCALENDAR
