BEGIN:VCALENDAR
PRODID:-//eluceo/ical//2.0/EN
VERSION:2.0
CALSCALE:GREGORIAN
BEGIN:VEVENT
UID:cc45eec54daf23b66a56d0390948d799
DTSTAMP:20260422T134402Z
SUMMARY:Newish and Jewish 2025\, Lenox
DESCRIPTION:Jewish Federation of the Berkshires\nBerkshire Jewish Community
  Calendar\nhttps://jewishberkshires.org/jewish-federation-of-the-berkshire
 s-calendar/newish-and-jewish-2025-lenox\n\nNew to the Berkshires? Welcome!
    \n\n \n\nJoin us for a casual gathering to enjoy a glass of wine\, 
 meet others who are "Newish and Jewish" in the region\, and learn more abo
 ut the Berkshire Jewish community. We look forward to connecting.\n\n \n\
 nSpace is limited. Registration is limited to two events. Host address wil
 l be shared with registered guests the week before the event.\n\n \n\nHos
 ted by Nedra and Marc Oren in Lenox.\n\n \n\n\n\nAdvanced registration re
 quired.  Please click ...
DTSTART;TZID=America/New_York:20250715T170000
DTEND;TZID=America/New_York:20250715T183000
END:VEVENT
END:VCALENDAR
