BEGIN:VCALENDAR
PRODID:-//eluceo/ical//2.0/EN
VERSION:2.0
CALSCALE:GREGORIAN
BEGIN:VEVENT
UID:f2edf9a0445c1c41cf9ccfe3e7fea145
DTSTAMP:20260423T005853Z
SUMMARY:Newish and Jewish 2025\, Lee
DESCRIPTION:Jewish Federation of the Berkshires\nBerkshire Jewish Community
  Calendar\nhttps://jewishberkshires.org/jewish-federation-of-the-berkshire
 s-calendar/newish-and-jewish-2025-lee\n\nNew to the Berkshires? Welcome! 
   \n\n \n\nJoin us for a casual gathering to enjoy a glass of wine\, me
 et others who are "Newish and Jewish" in the region\, and learn more about
  the Berkshire Jewish community. We look forward to connecting.\n\n \n\nS
 pace is limited. Registration is limited to two events. Host address will 
 be shared with registered guests the week before the event.\n\n \n\nHoste
 d by Robin and Kenny Baer in Lee.\n\n \n\n\n\nAdvanced registration requi
 red. Please click HE...
DTSTART;TZID=America/New_York:20250910T170000
DTEND;TZID=America/New_York:20250910T183000
END:VEVENT
END:VCALENDAR
