BEGIN:VCALENDAR
PRODID:-//eluceo/ical//2.0/EN
VERSION:2.0
CALSCALE:GREGORIAN
BEGIN:VEVENT
UID:fc90b3edef5a040a58873bf10b49d0d0
DTSTAMP:20260419T204028Z
SUMMARY:Newish and Jewish 2025\, Great Barrington
DESCRIPTION:Jewish Federation of the Berkshires\nBerkshire Jewish Community
  Calendar\nhttps://jewishberkshires.org/jewish-federation-of-the-berkshire
 s-calendar/newish-and-jewish-2025-great-barrington\n\nNew to the Berkshire
 s? Welcome!   \n\n \n\nJoin us for a casual gathering to enjoy a glass 
 of wine\, meet others who are "Newish and Jewish" in the region\, and lea
 rn more about the Berkshire Jewish community. We look forward to connectin
 g.\n\n \n\nSpace is limited. Registration is limited to two events. Host 
 address will be shared with registered guests the week before the event.\n
 \n \n\nHosted by Paula Bernay\, Bernay Gallery\, in Great Barrington.\n\
 n \n\n\n\nAdvanced registration requ...
DTSTART;TZID=America/New_York:20250806T170000
DTEND;TZID=America/New_York:20250806T183000
END:VEVENT
END:VCALENDAR
