BEGIN:VCALENDAR
PRODID:-//eluceo/ical//2.0/EN
VERSION:2.0
CALSCALE:GREGORIAN
BEGIN:VEVENT
UID:d3df82dfda2e2839a438d7d6fe94cfd5
DTSTAMP:20260421T080052Z
SUMMARY:NAACP is not an ANACHRONISM
DESCRIPTION:Jewish Federation of the Berkshires\nBerkshire Jewish Community
  Calendar\nhttps://jewishberkshires.org/jewish-federation-of-the-berkshire
 s-calendar/naacp-is-not-an-anachronism\n\nThe Jewish Federation Connecting
  with Community series welcomes Dennis Powell\, president of the Berkshire
  County Unit of the NAACP.
DTSTART;TZID=America/New_York:20170515T104500
DTEND;TZID=America/New_York:20170515T120000
END:VEVENT
END:VCALENDAR
