BEGIN:VCALENDAR
PRODID:-//eluceo/ical//2.0/EN
VERSION:2.0
CALSCALE:GREGORIAN
BEGIN:VEVENT
UID:c98c075febbbf44887a4a28b3d9718f5
DTSTAMP:20260421T014530Z
SUMMARY:Mysticism of Aleph-Bet Part 2
DESCRIPTION:Jewish Federation of the Berkshires\nBerkshire Jewish Community
  Calendar\nhttps://jewishberkshires.org/jewish-federation-of-the-berkshire
 s-calendar/mysticism-of-aleph-bet-part-2\n\nMysticism of Aleph-Bet Part 2
DTSTART;TZID=America/New_York:20140204T190000
DTEND;TZID=America/New_York:20140204T203000
END:VEVENT
END:VCALENDAR
