BEGIN:VCALENDAR
PRODID:-//eluceo/ical//2.0/EN
VERSION:2.0
CALSCALE:GREGORIAN
BEGIN:VEVENT
UID:546fa96c9ed55101f5fe708cf38179fd
DTSTAMP:20260426T013305Z
SUMMARY:Mysticism and Magic with Macht
DESCRIPTION:Jewish Federation of the Berkshires\nBerkshire Jewish Community
  Calendar\nhttps://jewishberkshires.org/jewish-federation-of-the-berkshire
 s-calendar/mysticism-and-magic-with-macht\n\nMysticism and Magic with Mach
 t
DTSTART;TZID=America/New_York:20131111T190000
DTEND;TZID=America/New_York:20131111T220000
END:VEVENT
END:VCALENDAR
