BEGIN:VCALENDAR
PRODID:-//eluceo/ical//2.0/EN
VERSION:2.0
CALSCALE:GREGORIAN
BEGIN:VEVENT
UID:a40daec81426c11f5852e75defdf0a29
DTSTAMP:20260423T124958Z
SUMMARY:Mystery Writer Seeking Truth
DESCRIPTION:Jewish Federation of the Berkshires\nBerkshire Jewish Community
  Calendar\nhttps://jewishberkshires.org/jewish-federation-of-the-berkshire
 s-calendar/mystery-writer-seeking-truth\n\nJewish Federation Connecting wi
 th Community presents "Mystery Writer Seeking Truth" with author Anastasia
  Goodman.
DTSTART;TZID=America/New_York:20190513T104500
DTEND;TZID=America/New_York:20190513T120000
END:VEVENT
END:VCALENDAR
