BEGIN:VCALENDAR
PRODID:-//eluceo/ical//2.0/EN
VERSION:2.0
CALSCALE:GREGORIAN
BEGIN:VEVENT
UID:268ed32914a903e4b6bee12e74aaafbd
DTSTAMP:20260419T221113Z
SUMMARY:"My So-Called Selfish Life"--a Text Study and Conversation
DESCRIPTION:Jewish Federation of the Berkshires\nBerkshire Jewish Community
  Calendar\nhttps://jewishberkshires.org/jewish-federation-of-the-berkshire
 s-calendar/my-so-called-selfish-life--a-text-study-and-conversation-168286
 0266\n\nIn her documentary “My So-Called Selfish Life\,” filmmaker The
 rese Schecter challenges the social taboo of a childless life and the expe
 ctation that female identity be equated with motherhood. Schecter places t
 his decision firmly in the context of the larger conversation about reprod
 uctive choice. Rabbi Pamela Wax will convene a conversation and text study
  of both secular and Jewish sources about decisions around choosing parent
 hood. This will be a hybrid session at Congregation Knesset Is...
DTSTART;TZID=America/New_York:20230619T190000
DTEND;TZID=America/New_York:20230619T203000
END:VEVENT
END:VCALENDAR
