BEGIN:VCALENDAR
PRODID:-//eluceo/ical//2.0/EN
VERSION:2.0
CALSCALE:GREGORIAN
BEGIN:VEVENT
UID:09e2211240d1bc8d0866dca5ab355990
DTSTAMP:20260424T122844Z
SUMMARY:My City of Dreams\, Author event
DESCRIPTION:Jewish Federation of the Berkshires\nBerkshire Jewish Community
  Calendar\nhttps://jewishberkshires.org/jewish-federation-of-the-berkshire
 s-calendar/my-city-of-dreams-author-event-1573492910\n\nCan provide PDF of
  flyer
DTSTART;TZID=America/New_York:20191217T160000
DTEND;TZID=America/New_York:20191217T170000
END:VEVENT
END:VCALENDAR
