BEGIN:VCALENDAR
PRODID:-//eluceo/ical//2.0/EN
VERSION:2.0
CALSCALE:GREGORIAN
BEGIN:VEVENT
UID:69f713c8ed4a32b868a5c06873bbfe72
DTSTAMP:20260425T014511Z
SUMMARY:Musical Minyan with Community Shabbat Dinner
DESCRIPTION:Jewish Federation of the Berkshires\nBerkshire Jewish Community
  Calendar\nhttps://jewishberkshires.org/jewish-federation-of-the-berkshire
 s-calendar/musical-minyan-with-community-shabbat-dinner-1649252905\n\nMiny
 an and a dinner! A small acoustic ensemble provides the backdrop for the t
 raditional Kabbalat Shabbat service\, with both meditative and spirited me
 lodies to welcome the Sabbath Bride. Weather permitting the service will b
 e held under the tent in the backyard. Register in advance for the communi
 ty dinner following the service.
DTSTART;TZID=America/New_York:20220916T174500
DTEND;TZID=America/New_York:20220916T204500
END:VEVENT
END:VCALENDAR
