BEGIN:VCALENDAR
PRODID:-//eluceo/ical//2.0/EN
VERSION:2.0
CALSCALE:GREGORIAN
BEGIN:VEVENT
UID:c977543ae93e7316a4209f93f1cd0c4d
DTSTAMP:20260421T034007Z
SUMMARY:Musical Minyan with Community Shabbat Dinner
DESCRIPTION:Jewish Federation of the Berkshires\nBerkshire Jewish Community
  Calendar\nhttps://jewishberkshires.org/jewish-federation-of-the-berkshire
 s-calendar/musical-minyan-with-community-shabbat-dinner-1649252520\n\nMiny
 an and a dinner! A small acoustic ensemble provides the backdrop for the t
 raditional Kabbalat Shabbat service\, with both meditative and spirited me
 lodies to welcome the Sabbath Bride. Weather permitting the service will b
 e held under the tent in the backyard. Register in advance for the communi
 ty dinner following the service.
DTSTART;TZID=America/New_York:20220819T174500
DTEND;TZID=America/New_York:20220819T204500
END:VEVENT
END:VCALENDAR
