BEGIN:VCALENDAR
PRODID:-//eluceo/ical//2.0/EN
VERSION:2.0
CALSCALE:GREGORIAN
BEGIN:VEVENT
UID:d67e39a42e2cc02017755eb19f44a299
DTSTAMP:20260423T014420Z
SUMMARY:Musical Kabbalat Shabbat and Welcome Reception
DESCRIPTION:Jewish Federation of the Berkshires\nBerkshire Jewish Community
  Calendar\nhttps://jewishberkshires.org/jewish-federation-of-the-berkshire
 s-calendar/musical-kabbalat-shabbat-and-welcome-reception-1720751799\n\nTh
 is session of part of "HUC-JIR in the Berkshires" programming.\n\nAn uplif
 ting and musical Friday night service with Rabbi Jodie Gordon ’14\, feat
 uring HUC-JIR cantorial faculty\, students\, and alumni under the leadersh
 ip of Cantor Jill Abramson ’02. The evening will begin with an\ninformal
  reception\, to which all are invited for hors d’oeuvres and conversatio
 n in community\,\nand include a D’var Torah by President Andrew Rehfeld\
 , Ph.D.
DTSTART;TZID=America/New_York:20240726T170000
DTEND;TZID=America/New_York:20240726T190000
END:VEVENT
END:VCALENDAR
