BEGIN:VCALENDAR
PRODID:-//eluceo/ical//2.0/EN
VERSION:2.0
CALSCALE:GREGORIAN
BEGIN:VEVENT
UID:6bef29009ccab8ab1f513bb26b0e1f72
DTSTAMP:20260419T174411Z
SUMMARY:Musical Minyan and Community Dinner
DESCRIPTION:Jewish Federation of the Berkshires\nBerkshire Jewish Community
  Calendar\nhttps://jewishberkshires.org/jewish-federation-of-the-berkshire
 s-calendar/musica-minyan-and-community-dinner-1754500839\n\nMusical\, fami
 ly-friendly service at 5:45\, followed by catered kosher dinner at 6:45. A
 dvance registration required for dinner.
DTSTART;TZID=America/New_York:20260515T174500
DTEND;TZID=America/New_York:20260515T204500
END:VEVENT
END:VCALENDAR
