BEGIN:VCALENDAR
PRODID:-//eluceo/ical//2.0/EN
VERSION:2.0
CALSCALE:GREGORIAN
BEGIN:VEVENT
UID:4d37451954aeef78f2d82c4c227c6db1
DTSTAMP:20260421T095232Z
SUMMARY:Murder in Manchuria: A True Story\, with Scott Seligman
DESCRIPTION:Jewish Federation of the Berkshires\nBerkshire Jewish Community
  Calendar\nhttps://jewishberkshires.org/jewish-federation-of-the-berkshire
 s-calendar/murder-in-manchuria-a-true-story-with-scott-seligman-1701446000
 \n\nIn Murder in Manchuria\, Scott D. Seligman explores an unsolved murder
  set amid the chaos that reigned in China in the run-up to World War II. P
 art cold-case thriller and part social history\, the true\, tragic saga of
  Kaspé is told in the context of the larger\, improbable story of the liv
 es of the twenty thousand Jews who called Harbin home at the beginning of 
 the twentieth century. Scott D. Seligman recounts the events that led to t
 heir arrival and their hasty exodus—and solves a crime that...
DTSTART;TZID=America/New_York:20240104T190000
DTEND;TZID=America/New_York:20240104T200000
END:VEVENT
END:VCALENDAR
