BEGIN:VCALENDAR
PRODID:-//eluceo/ical//2.0/EN
VERSION:2.0
CALSCALE:GREGORIAN
BEGIN:VEVENT
UID:551b0a604f1d773e4b241e05b1645312
DTSTAMP:20260423T123112Z
SUMMARY:Muppets in Moscow: The Unexpected Crazy Story of Making Sesame St i
 n Russia
DESCRIPTION:Jewish Federation of the Berkshires\nBerkshire Jewish Community
  Calendar\nhttps://jewishberkshires.org/jewish-federation-of-the-berkshire
 s-calendar/muppets-in-moscow-the-unexpected-crazy-story-of-making-sesame-s
 t-in-russia\n\nPlease register HERE.\n\nJoin author Natasha Lance Rogoff i
 n conversation with Avi Dresner about MUPPETS IN MOSCOW\, the captivating
  true story of a young American TV producer’s adventures bringing Sesame
  Street to Russia. The story takes place in the 1990s and Lance Rogoff and
  her team experience car bombings\, assassinations and the takeover their 
 puppet production office as well as culture clashes that pit Sesame Street
 ’s progressive values against four centuries of Russian thought. Bri...
DTSTART;TZID=America/New_York:20240607T104500
DTEND;TZID=America/New_York:20240607T114500
END:VEVENT
END:VCALENDAR
