BEGIN:VCALENDAR
PRODID:-//eluceo/ical//2.0/EN
VERSION:2.0
CALSCALE:GREGORIAN
BEGIN:VEVENT
UID:4f003d3479da2be88eba8f16ad8455a5
DTSTAMP:20260425T173911Z
SUMMARY:“Moving Through the Morning Service” with Sue Gurland
DESCRIPTION:Jewish Federation of the Berkshires\nBerkshire Jewish Community
  Calendar\nhttps://jewishberkshires.org/jewish-federation-of-the-berkshire
 s-calendar/moving-through-the-morning-service-with-sue-gurland-1487699812\
 n\nOn Shabbat morning in the downstairs Chapel from 9:30-10:30. She is a t
 eacher who integrates authentic Jewish practices with contemplative moveme
 nt\, meditation and visualization. The program will end in time for the To
 rah service upstairs.
DTSTART;TZID=America/New_York:20170729T093000
DTEND;TZID=America/New_York:20170729T103000
END:VEVENT
END:VCALENDAR
