BEGIN:VCALENDAR
PRODID:-//eluceo/ical//2.0/EN
VERSION:2.0
CALSCALE:GREGORIAN
BEGIN:VEVENT
UID:6ab7f5fca7b9d3001a054332ee206727
DTSTAMP:20260422T202747Z
SUMMARY:Modern History of Congressional Investigations
DESCRIPTION:Jewish Federation of the Berkshires\nBerkshire Jewish Community
  Calendar\nhttps://jewishberkshires.org/jewish-federation-of-the-berkshire
 s-calendar/modern-history-of-congressional-investigations\n\nThe Jewish Fe
 deration Connecting with Community presents "Modern History of Congression
 al Investigations."
DTSTART;TZID=America/New_York:20190711T104500
DTEND;TZID=America/New_York:20190711T120000
END:VEVENT
END:VCALENDAR
