BEGIN:VCALENDAR
PRODID:-//eluceo/ical//2.0/EN
VERSION:2.0
CALSCALE:GREGORIAN
BEGIN:VEVENT
UID:26e465038dc4d8ab7b26172e514bcc04
DTSTAMP:20260422T082110Z
SUMMARY:Miriam Schapiro: A Pioneer of the Feminist Art Movement
DESCRIPTION:Jewish Federation of the Berkshires\nBerkshire Jewish Community
  Calendar\nhttps://jewishberkshires.org/jewish-federation-of-the-berkshire
 s-calendar/miriam-schapiro-a-pioneer-of-the-feminist-art-movement\n\nForem
 ost leaders in the feminist art movement
DTSTART;TZID=America/New_York:20210503T184500
DTEND;TZID=America/New_York:20210503T194500
END:VEVENT
END:VCALENDAR
